BEGIN:VCALENDAR
VERSION:2.0
PRODID:-//Regenerage - ECPv6.8.2.1//NONSGML v1.0//EN
CALSCALE:GREGORIAN
METHOD:PUBLISH
X-WR-CALNAME:Regenerage
X-ORIGINAL-URL:https://regenerage.org.uk
X-WR-CALDESC:Events for Regenerage
REFRESH-INTERVAL;VALUE=DURATION:PT1H
X-Robots-Tag:noindex
X-PUBLISHED-TTL:PT1H
BEGIN:VTIMEZONE
TZID:Europe/London
BEGIN:DAYLIGHT
TZOFFSETFROM:+0000
TZOFFSETTO:+0100
TZNAME:BST
DTSTART:20260329T010000
END:DAYLIGHT
BEGIN:STANDARD
TZOFFSETFROM:+0100
TZOFFSETTO:+0000
TZNAME:GMT
DTSTART:20261025T010000
END:STANDARD
END:VTIMEZONE
BEGIN:VEVENT
DTSTART;TZID=Europe/London:20260611T123000
DTEND;TZID=Europe/London:20260611T123000
DTSTAMP:20260425T005234
CREATED:20260303T122506Z
LAST-MODIFIED:20260306T114523Z
UID:19547-1781181000-1781181000@regenerage.org.uk
SUMMARY:2026 Annual Charity Golf Event
DESCRIPTION:We are holding our annual charity Golf Event on 11th June 2026 at Leyland Golf Club. \n£80 per player. \nFood served before and after play. \nCall 01772 552850 to book your tickets \nhttps://regenerage.org.uk/wp-content/uploads/2026/03/Regen-charity-golf-day.mp4
URL:https://regenerage.org.uk/event/2026-annual-charity-golf-event/
LOCATION:Leyland Golf Club\, Wigan Rd\, Leyland\, Lancashire\, PR25 5UD\, United Kingdom
CATEGORIES:Annual Event
ATTACH;FMTTYPE=image/webp:https://regenerage.org.uk/wp-content/uploads/2026/03/golf-event.webp
END:VEVENT
END:VCALENDAR