BEGIN:VCALENDAR
VERSION:2.0
PRODID:-//Regenerage - ECPv6.8.2.1//NONSGML v1.0//EN
CALSCALE:GREGORIAN
METHOD:PUBLISH
X-WR-CALNAME:Regenerage
X-ORIGINAL-URL:https://regenerage.org.uk
X-WR-CALDESC:Events for Regenerage
REFRESH-INTERVAL;VALUE=DURATION:PT1H
X-Robots-Tag:noindex
X-PUBLISHED-TTL:PT1H
BEGIN:VTIMEZONE
TZID:Europe/London
BEGIN:DAYLIGHT
TZOFFSETFROM:+0000
TZOFFSETTO:+0100
TZNAME:BST
DTSTART:20250330T010000
END:DAYLIGHT
BEGIN:STANDARD
TZOFFSETFROM:+0100
TZOFFSETTO:+0000
TZNAME:GMT
DTSTART:20251026T010000
END:STANDARD
END:VTIMEZONE
BEGIN:VEVENT
DTSTART;TZID=Europe/London:20251103T100000
DTEND;TZID=Europe/London:20251103T120000
DTSTAMP:20260426T013427
CREATED:20230424T080600Z
LAST-MODIFIED:20230424T080600Z
UID:18822-1762164000-1762171200@regenerage.org.uk
SUMMARY:Art Group
DESCRIPTION:Every Monday\nLostock Hall Activity Centre\nLourdes Ave\, Lostock Hall \n10:00 – 12:00\nAccessible art workshops for everyone\, regardless of artistic skill or resources. We specialise in easy\, low-tech art-making for people who want space to develop confidence or socialise. People living with memory concerns and their carers are particularly welcome as we have trained staff running this group for additional support \nDrinks available throughout the session \n((This event is charged at £4.50 – attendees can pay on the day))
URL:https://regenerage.org.uk/event/art-group-2-2025-11-03/
LOCATION:Lostock Hall Activity Centre\, Lourdes Ave\, Lostock Hall
CATEGORIES:Activity Centre,Weekly Event
ATTACH;FMTTYPE=image/jpeg:https://regenerage.org.uk/wp-content/uploads/2023/04/IMG_4409-1-scaled.jpg
END:VEVENT
BEGIN:VEVENT
DTSTART;TZID=Europe/London:20251103T100000
DTEND;TZID=Europe/London:20251103T120000
DTSTAMP:20260426T013427
CREATED:20230113T140859Z
LAST-MODIFIED:20230113T140859Z
UID:18821-1762164000-1762171200@regenerage.org.uk
SUMMARY:Indoor Bowling & Bridge
DESCRIPTION:Every Monday\nGalloway Hall\nBrackenbury Rd\, Fulwood \n10:00-12:00\nVolunteer-led activities\, popular with mixed abilities for bowling. This is much more popular in the winter months with approx 16 people attending. The summer only usually has approx. 8-10 people. \nThe bridge group is fiercely competitive and has approx 18 members. \nRefreshments are available throughout the session \n((This group is £4.00 and attendees can pay on arrival)) \nReview\n“I come to indoor bowling at Lostock Hall Friendship Club because I was looking for an indoor bowling group which wasn’t already established\, as it is my first season indoors\, and also I suddenly found myself on my own so needed a hobby throughout the darker months.” \n“I enjoy coming as I get the exercise I am looking for but also it is a very welcoming group. I have made some friends through attending the indoor bowling and the brews a biscuits are an added bonus.” \n“I have recommend the group to one of my friends who also now attends\, We both enjoy the relaxed atmosphere\, with a little competition but not too serious. I have found that some other bowling groups can be too serious.” – Service User
URL:https://regenerage.org.uk/event/indoor-bowling-bridge-2-2023-02-27-2025-11-03/
LOCATION:Brackenbury Rd\, Fulwood\, Galloway Hall\, Brackenbury Road\, Fulwood\, Preston\, Select a State or Province:\, PR2 3BS\, United Kingdom
CATEGORIES:Activity Centre,Weekly Event
ATTACH;FMTTYPE=image/jpeg:https://regenerage.org.uk/wp-content/uploads/2023/01/elderly-friends-playing-petanque-scaled.jpg
END:VEVENT
BEGIN:VEVENT
DTSTART;TZID=Europe/London:20251103T130000
DTEND;TZID=Europe/London:20251103T140000
DTSTAMP:20260426T013427
CREATED:20230424T094006Z
LAST-MODIFIED:20230424T094006Z
UID:18824-1762174800-1762178400@regenerage.org.uk
SUMMARY:Zumba Gold
DESCRIPTION:Every Monday\nLostock Hall Activity Center\nLourdes Ave\, Lostock Hall \n13:00 – 14:00\nLooking to get active and meet new friends? Our Zuma group is the perfect place to do exactly that. Refreshments are available throughout the session. \n((This event is charged at £5.00 – attendees can pay on the day))
URL:https://regenerage.org.uk/event/zumba-gold-2025-11-03/
LOCATION:Lostock Hall Activity Centre\, Lourdes Ave\, Lostock Hall
CATEGORIES:Activity Centre,Weekly Event
ATTACH;FMTTYPE=image/jpeg:https://regenerage.org.uk/wp-content/uploads/2023/04/people-taking-part-zumba-class-scaled.jpg
END:VEVENT
BEGIN:VEVENT
DTSTART;TZID=Europe/London:20251103T143000
DTEND;TZID=Europe/London:20251103T163000
DTSTAMP:20260426T013427
CREATED:20230424T083110Z
LAST-MODIFIED:20230424T083110Z
UID:18823-1762180200-1762187400@regenerage.org.uk
SUMMARY:Crafty Cuppa
DESCRIPTION:Every Monday\nLostock Hall Activity Centre\nLourdes Ave\, Lostock Hall \n14:30 -16:30\nFor anyone who likes knitting\, crocheting\, sewing or embroidering\, as well as spending quality time with others. \nDrinks available throughout the session. \n((This event is charged at £3.50 – attendees can pay on the day))
URL:https://regenerage.org.uk/event/morning-coffee-2-2025-11-03/
LOCATION:Lostock Hall Activity Centre\, Lourdes Ave\, Lostock Hall
CATEGORIES:Activity Centre,Weekly Event
ATTACH;FMTTYPE=image/png:https://regenerage.org.uk/wp-content/uploads/2023/01/knit.png
END:VEVENT
BEGIN:VEVENT
DTSTART;TZID=Europe/London:20251104T093000
DTEND;TZID=Europe/London:20251104T103000
DTSTAMP:20260426T013427
CREATED:20230424T095023Z
LAST-MODIFIED:20230424T095023Z
UID:18826-1762248600-1762252200@regenerage.org.uk
SUMMARY:Tai Chi
DESCRIPTION:Every Tuesday\nLostock Hall Activity Center\nLourdes Ave\, Lostock Hall \n09:30 – 10:30\nThis is a popular class lead by an instructor every Tuesday. Tai Chi is a practice that involves a series of slow gentle movements and physical postures\, a meditative state of mind\, and controlled breathing \nRefreshments available throughout. \n((This event is charged at £5.00 – attendees can pay on the day))
URL:https://regenerage.org.uk/event/tai-chi-2025-11-04/
LOCATION:Lostock Hall Activity Centre\, Lourdes Ave\, Lostock Hall
CATEGORIES:Activity Centre,Weekly Event
ATTACH;FMTTYPE=image/jpeg:https://regenerage.org.uk/wp-content/uploads/2023/04/grandparents-gym-scaled.jpg
END:VEVENT
BEGIN:VEVENT
DTSTART;TZID=Europe/London:20251104T110000
DTEND;TZID=Europe/London:20251104T120000
DTSTAMP:20260426T013427
CREATED:20230424T095407Z
LAST-MODIFIED:20230424T095407Z
UID:18827-1762254000-1762257600@regenerage.org.uk
SUMMARY:Keep Fit
DESCRIPTION:Every Tuesday\nLostock Hall Activity Centre\nLourdes Ave\, Lostock Hall \n11:00 -12 noon\nJoin our Keep Fit class with our wonderful instructor who will help get you moving and keep fit. Refreshments are available throughout. \n((This event is charged at £5.50 – attendees can pay on the day))
URL:https://regenerage.org.uk/event/keep-fit-2025-11-04/
LOCATION:Lancashire
CATEGORIES:Activity Centre,Weekly Event
ATTACH;FMTTYPE=image/jpeg:https://regenerage.org.uk/wp-content/uploads/2023/04/closeup-senior-man-having-exercise-class-home-scaled.jpg
END:VEVENT
BEGIN:VEVENT
DTSTART;TZID=Europe/London:20251104T140000
DTEND;TZID=Europe/London:20251104T160000
DTSTAMP:20260426T013427
CREATED:20230426T134924Z
LAST-MODIFIED:20230426T134924Z
UID:18828-1762264800-1762272000@regenerage.org.uk
SUMMARY:Virtual Reality Interactive Games
DESCRIPTION:Lostock Hall Activity Centre\nLourdes Ave\, Lostock Hall \nEvery Tuesday\n14:00 – 16:00\nOur ALL NEW virtual reality interactive games session is here and we’re super excited to bring it to you. Join in the fun with our new virtual reality game kit. \nDrinks available throughout the session. \n((This is a paid for group and each session costs £3. Please book your 15 minute session via Lostock Hall Activity Centre – attendees can pay on the day)) \n*Please note this session is not suitable for anyone with epilepsy or\, anybody who may be pregnant*
URL:https://regenerage.org.uk/event/virtual-reality-interactive-games-2025-11-04/
LOCATION:Lostock Hall Activity Centre\, Lourdes Ave\, Lostock Hall
CATEGORIES:Activity Centre,Weekly Event
ATTACH;FMTTYPE=image/jpeg:https://regenerage.org.uk/wp-content/uploads/2023/04/grandparent-learning-use-technology-scaled.jpg
END:VEVENT
END:VCALENDAR